BEGIN:VCALENDAR
VERSION:2.0
PRODID:-//wp-events-plugin.com//5.99912//EN
TZID:Europe/Rome
X-WR-TIMEZONE:Europe/Rome
BEGIN:VEVENT
UID:2705@assintel.it
DTSTART;TZID=Europe/Rome;VALUE=DATE:20260506
DTEND;TZID=Europe/Rome;VALUE=DATE:20260508
DTSTAMP:20260422T131017Z
URL:https://www.assintel.it/eventi/netcomm-forum-allianz-mico-milano-6-e-7
 -maggio-2026/
SUMMARY:NETCOMM FORUM | Allianz MiCo Milano\, 6 e 7 maggio 2026
DESCRIPTION:Allianz MiCo Milano\, 6 e 7 maggio 2026. Ti aspettiamo a NETCOM
 M FORUM\, l’appuntamento di riferimento per il mondo digitale italiano. 
 Partecipa al workshop Assintel e accedi alla fiera [...]
ATTACH;FMTTYPE=image/jpeg:https://www.assintel.it/wp-content/uploads/2026/
 04/netcomm2026-350x243-1.png
CATEGORIES:Eventi Assintel
END:VEVENT
BEGIN:VTIMEZONE
TZID:Europe/Rome
X-LIC-LOCATION:Europe/Rome
BEGIN:DAYLIGHT
DTSTART:20260329T030000
TZOFFSETFROM:+0100
TZOFFSETTO:+0200
TZNAME:CEST
END:DAYLIGHT
END:VTIMEZONE
END:VCALENDAR